BEGIN:VCALENDAR
VERSION:2.0
PRODID:-//Eventin//Event Calendar//EN
CALSCALE:GREGORIAN
METHOD:PUBLISH
BEGIN:VEVENT
UID:2e149ea988b6231d4a3c04fadff9c24f@orcoastmga.org
SUMMARY:LCMGA Board Meeting
DESCRIPTION:The LCMGA board meets the second Monday of every month. All mem
 bers are welcome to attend in person or via Google Meet:\nVideo call link: 
 https://meet.google.com/gwy-wxhb-vzcOr dial: ‪(US) +1 530-430-7014‬ PIN
 : ‪288 042 039‬#More phone numbers: https://tel.meet/gwy-wxhb-vzc?pin=6
 202861733610
LOCATION:Hybrid
DTSTAMP:20260420T135146Z
DTSTART:20260914T170000Z
DTEND:20260914T190000Z
END:VEVENT
END:VCALENDAR
