BEGIN:VCALENDAR
VERSION:2.0
PRODID:-//Eventin//Event Calendar//EN
CALSCALE:GREGORIAN
METHOD:PUBLISH
BEGIN:VEVENT
UID:4f8265130b0938e70a044533354f9612@orcoastmga.org
SUMMARY:Everything Bees
DESCRIPTION:David from the Xerces Society will present information about th
 e many species of bees that we have here on the Oregon Coast. It's not just
  Honey Bees!\n \n\nThis presentation is in the McIntee room at the Newport
  Public Library.\nFeatured image of Blue Orchard Bees (Osmia lignaria) cour
 tesy of Washington Native Bee Society.
LOCATION:Newport Public Library\, 35 Northwest Nye Street\, Newport\, OR 97
 365\, USA
DTSTAMP:20260424T114655Z
DTSTART:20260613T183000Z
DTEND:20260613T193000Z
END:VEVENT
END:VCALENDAR
