BEGIN:VCALENDAR
VERSION:2.0
PRODID:-//Eventin//Event Calendar//EN
CALSCALE:GREGORIAN
METHOD:PUBLISH
BEGIN:VEVENT
UID:ff842fde117efc7b0493953539224d80@orcoastmga.org
SUMMARY:Newport Farmers Market
DESCRIPTION:Lincoln County Master Gardeners are present at Saturday Market\
 , every two weeks\, to answer questions about plants\, plant pests and to p
 rovide general gardening information. We will be at the market from Saturda
 y May 31st to Saturday\, October 4th. We will enlist our "Plant Clinic" for
  help on questions that cannot be answered fully in person. Feel free to br
 ing samples or pictures of your plants and pests for diagnosis.
LOCATION:169 SW Coast Hwy\, Newport\, OR 97365\, USA
DTSTAMP:20260424T170242Z
DTSTART:20260711T160000Z
DTEND:20260711T200000Z
END:VEVENT
END:VCALENDAR
