BEGIN:VCALENDAR
VERSION:2.0
PRODID:-//Eventin//Event Calendar//EN
CALSCALE:GREGORIAN
METHOD:PUBLISH
BEGIN:VEVENT
UID:3da0179a9f881a510d50eeee902f57a2@orcoastmga.org
SUMMARY:Lincoln City Sunday Market
DESCRIPTION:Lincoln County Master Gardeners are present at the Lincoln Coun
 ty Sunday Market on 7/19\, 8/16 and 9/13. We will enlist our "Plant Clinic"
  for help on questions that cannot be answered fully in person. Feel free t
 o bring samples or pictures of your plants and pests for diagnosis.
LOCATION:Lincoln City Cultural Center\, 540 Northeast Highway 101\, Lincoln
  City\, OR\, USA
DTSTAMP:20260424T170044Z
DTSTART:20260816T170000Z
DTEND:20260816T210000Z
END:VEVENT
END:VCALENDAR
