BEGIN:VCALENDAR
VERSION:2.0
PRODID:-//Eventin//Event Calendar//EN
CALSCALE:GREGORIAN
METHOD:PUBLISH
BEGIN:VEVENT
UID:eadce93dda13847e1234d5d0196bb014@orcoastmga.org
SUMMARY:Yachats Farmers Market
DESCRIPTION:Lincoln County Master Gardeners are present at the Yachats Farm
 ers Market on 9/6 and 9/27. We will enlist our "Plant Clinic" for help on q
 uestions that cannot be answered fully in person. Feel free to bring sample
 s or pictures of your plants and pests for diagnosis.
LOCATION:237 4th St\, Yachats\, OR\, USA
DTSTAMP:20260424T151403Z
DTSTART:20260906T160000Z
DTEND:20260906T210000Z
END:VEVENT
END:VCALENDAR
